BEGIN:VCALENDAR
VERSION:2.0
PRODID:-//www.northeastraces.com//northeastraces//EN
METHOD:PUBLISH
BEGIN:VEVENT
UID:2026-10-11-holmfirth@www.northeastraces.com
DESCRIPTION:details=http://www.northeastraces.com/#2026-10-11-holmfirth\, length=10K\, cd=?\, eods=?\, results=?
LOCATION:HD9 2AQ (Holmfirth)
SUMMARY:Holmfirth 10K\, cd=?\, eods=?
DTSTART;VALUE=DATE:20261011
DTEND;VALUE=DATE:20261011
DTSTAMP:20260424T082927Z
URL:http://www.northeastraces.com/#2026-10-11-holmfirth
END:VEVENT
END:VCALENDAR