BEGIN:VCALENDAR
VERSION:2.0
PRODID:-//www.northeastraces.com//northeastraces//EN
METHOD:PUBLISH
BEGIN:VEVENT
UID:2026-10-11-grewelthorpe-ripon@www.northeastraces.com
DESCRIPTION:details=http://www.northeastraces.com/#2026-10-11-grewelthorpe-ripon\, length=13K\, cd=?\, eods=yes\, results=?
LOCATION:HG4 3BU (Grewelthorpe (Ripon))
SUMMARY:Grewelthorpe Multi-terrain Race at 1100\, cd=?\, eods=yes
DTSTART:20261011T110000Z
DTEND:20261011T120000Z
DTSTAMP:20260424T082927Z
URL:http://www.northeastraces.com/#2026-10-11-grewelthorpe-ripon
END:VEVENT
END:VCALENDAR