BEGIN:VCALENDAR
VERSION:2.0
PRODID:-//www.northeastraces.com//northeastraces//EN
METHOD:PUBLISH
BEGIN:VEVENT
UID:2026-10-11-coxhoe-county-durham@www.northeastraces.com
DESCRIPTION:details=http://www.northeastraces.com/#2026-10-11-coxhoe-county-durham\, length=10K\, cd=?\, eods=yes\, results=?
LOCATION:DH6 4DW (Coxhoe (County Durham))
SUMMARY:Coxhoe Trail Run at 1000\, cd=?\, eods=yes
DTSTART:20261011T100000Z
DTEND:20261011T110000Z
DTSTAMP:20260423T125159Z
URL:http://www.northeastraces.com/#2026-10-11-coxhoe-county-durham
END:VEVENT
END:VCALENDAR