BEGIN:VCALENDAR
VERSION:2.0
PRODID:-//www.northeastraces.com//northeastraces//EN
METHOD:PUBLISH
BEGIN:VEVENT
UID:2026-10-11-wentworth-rotherham@www.northeastraces.com
DESCRIPTION:details=http://www.northeastraces.com/#2026-10-11-wentworth-rotherham\, length=10K\, cd=?\, eods=?\, results=?
LOCATION:S62 7TQ (Wentworth (Rotherham))
SUMMARY:Rotherham 10K\, cd=?\, eods=?
DTSTART;VALUE=DATE:20261011
DTEND;VALUE=DATE:20261011
DTSTAMP:20260423T122409Z
URL:http://www.northeastraces.com/#2026-10-11-wentworth-rotherham
END:VEVENT
END:VCALENDAR