BEGIN:VCALENDAR
VERSION:2.0
PRODID:-//www.northeastraces.com//northeastraces//EN
METHOD:PUBLISH
BEGIN:VEVENT
UID:2026-10-04-penshaw@www.northeastraces.com
DESCRIPTION:details=http://www.northeastraces.com/#2026-10-04-penshaw\, length=half marathon\, cd=?\, eods=?\, results=?
LOCATION:DH4 7NJ (Penshaw)
SUMMARY:Penshaw Half Marathon at 1000\, cd=?\, eods=?
DTSTART:20261004T100000Z
DTEND:20261004T110000Z
DTSTAMP:20260423T114937Z
URL:http://www.northeastraces.com/#2026-10-04-penshaw
END:VEVENT
END:VCALENDAR