BEGIN:VCALENDAR
VERSION:2.0
PRODID:-//www.northeastraces.com//northeastraces//EN
METHOD:PUBLISH
BEGIN:VEVENT
UID:2026-10-04-fadmoor-kirkbymoorside@www.northeastraces.com
DESCRIPTION:details=http://www.northeastraces.com/#2026-10-04-fadmoor-kirkbymoorside\, length=10K\, cd=?\, eods=?\, results=?
LOCATION:YO62 7HD (Fadmoor (Kirkbymoorside))
SUMMARY:Fadmoor Run\, cd=?\, eods=?
DTSTART;VALUE=DATE:20261004
DTEND;VALUE=DATE:20261004
DTSTAMP:20260422T124453Z
URL:http://www.northeastraces.com/#2026-10-04-fadmoor-kirkbymoorside
END:VEVENT
END:VCALENDAR