BEGIN:VCALENDAR
VERSION:2.0
PRODID:-//www.northeastraces.com//northeastraces//EN
METHOD:PUBLISH
BEGIN:VEVENT
UID:2026-10-02-doncaster@www.northeastraces.com
DESCRIPTION:details=http://www.northeastraces.com/#2026-10-02-doncaster\, length=5K\, cd=?\, eods=?\, results=?
LOCATION:DN4 7PD (Doncaster)
SUMMARY:Donfaster 5K - October at 1900\, cd=?\, eods=?
DTSTART:20261002T190000Z
DTEND:20261002T200000Z
DTSTAMP:20260420T110228Z
URL:http://www.northeastraces.com/#2026-10-02-doncaster
END:VEVENT
END:VCALENDAR